BEGIN:VCALENDAR
VERSION:2.0
PRODID:-//FADE Initiative - ECPv6.15.20//NONSGML v1.0//EN
CALSCALE:GREGORIAN
METHOD:PUBLISH
X-WR-CALNAME:FADE Initiative
X-ORIGINAL-URL:https://www.fadeinit.org
X-WR-CALDESC:Events for FADE Initiative
REFRESH-INTERVAL;VALUE=DURATION:PT1H
X-Robots-Tag:noindex
X-PUBLISHED-TTL:PT1H
BEGIN:VTIMEZONE
TZID:America/Halifax
BEGIN:DAYLIGHT
TZOFFSETFROM:-0400
TZOFFSETTO:-0300
TZNAME:ADT
DTSTART:20250309T060000
END:DAYLIGHT
BEGIN:STANDARD
TZOFFSETFROM:-0300
TZOFFSETTO:-0400
TZNAME:AST
DTSTART:20251102T050000
END:STANDARD
BEGIN:DAYLIGHT
TZOFFSETFROM:-0400
TZOFFSETTO:-0300
TZNAME:ADT
DTSTART:20260308T060000
END:DAYLIGHT
BEGIN:STANDARD
TZOFFSETFROM:-0300
TZOFFSETTO:-0400
TZNAME:AST
DTSTART:20261101T050000
END:STANDARD
BEGIN:DAYLIGHT
TZOFFSETFROM:-0400
TZOFFSETTO:-0300
TZNAME:ADT
DTSTART:20270314T060000
END:DAYLIGHT
BEGIN:STANDARD
TZOFFSETFROM:-0300
TZOFFSETTO:-0400
TZNAME:AST
DTSTART:20271107T050000
END:STANDARD
END:VTIMEZONE
BEGIN:VEVENT
DTSTART;TZID=America/Halifax:20260506T183000
DTEND;TZID=America/Halifax:20260506T193000
DTSTAMP:20260419T141322
CREATED:20260418T205224Z
LAST-MODIFIED:20260418T205224Z
UID:10000811-1778092200-1778095800@www.fadeinit.org
SUMMARY:Weekly Drawing Series
DESCRIPTION:Elevate Your Artistry\nAre you ready to take your creative work to the next level? Whether you are a traditional oil painter or a street artist\, mastering the core elements of design is the key to unlocking your full potential. Join our live\, in-person drawing series to build confidence in your design decisions and rediscover the power of the pencil. \nEach class will rotate through different topics where we’ll guide you through the essential techniques that form the backbone of great art:  \n– Line: Discover how to manipulate every component and variation of a line to bring energy to your work.\n– Shape: Learn to develop shapes that don’t just form a sketch\, but tell a compelling visual story.\n– Value: Master the use of light and shadow to make value work effectively for your compositions.\n– Form: Gain the tools to create depth and realistic dimension with ease.\n– Scale: Learn to arrange elements to create impactful\, professional-grade layouts.\n– Perspective:\n– Color Theory: Explore how to apply foundational color principles to your graphite and mixed-media projects.\n– Composition:\n– Materials and Supplies: Learn how to use different materials and supplies to enhance your work. \nA Community for Every Creator\nThis series is designed for artists of all levels. We believe in a collaborative approach to learning\, where we challenge you to step outside your comfort zone while providing the reassuring guidance you need to succeed. \nPreparation & Materials\nTo ensure you have everything you need to succeed\, you can either purchase a pre-assembled kit or bring your own supplies. To purchase a kit or get a specific list\, please let us know during the registration process. Extra supplies will not be available during the class. \nRequired Drawing Supplies:\n– Graphite Pencils: at least an HB or 2B pencil.\n– Erasers: Both a kneaded eraser and a white or pink rubber eraser.\n– Paper Pad (9” x 12”): A dedicated drawing pad. \nRegistration Information\nWe offer several ways to join our classes\, with special pricing for our Supporting Members. \n\n\n\n\nRegular\nSupporting Member\n\n\nPre-Order (Per Class)\n$28\n$23\n\n\n4-Class Bundle\n$112\n$92\n\n\nDrop-in (Day of pricing)\n$40\n$32\n\n\n\n  \nPricing Details\n– Pre-Order: Secure your spot by pre-registering before the class date.\n– Series Pricing: Best value! Bundle any four (4) classes of your choice. \nTo maintain a high-quality experience for all participants\, classes require a minimum of 5 students. In the event a class is cancelled due to low attendance\, pre-paid students may choose between a full refund or a credit toward a future class. Please note that we cannot offer refunds for no-shows. \nJoin Us\nEach topic rotates every eight weeks\, offering you a structured yet flexible way to grow your craft.  \nWhen: Wednesdays\, starting May 6\, 2026 at 6:30 – 7:30pm. \nWhere: The Philosopher’s House classroom. \nEmail to Register: laura@fadeinit.org
URL:https://www.fadeinit.org/event/weekly-drawing-series/2026-05-06/
LOCATION:The Philosopher’s House\, 117 W Fairview Ave\, Johnson City\, TN\, 37604\, United States
CATEGORIES:Classes,In-Person
ATTACH;FMTTYPE=image/png:https://www.fadeinit.org/wp-content/uploads/2026/04/Intro-to-Art-Design.png
ORGANIZER;CN="FADE Initiative":MAILTO:hello@fadeinit.org
END:VEVENT
BEGIN:VEVENT
DTSTART;TZID=America/Halifax:20260513T183000
DTEND;TZID=America/Halifax:20260513T193000
DTSTAMP:20260419T141322
CREATED:20260418T205224Z
LAST-MODIFIED:20260418T205224Z
UID:10000819-1778697000-1778700600@www.fadeinit.org
SUMMARY:Weekly Drawing Series
DESCRIPTION:Elevate Your Artistry\nAre you ready to take your creative work to the next level? Whether you are a traditional oil painter or a street artist\, mastering the core elements of design is the key to unlocking your full potential. Join our live\, in-person drawing series to build confidence in your design decisions and rediscover the power of the pencil. \nEach class will rotate through different topics where we’ll guide you through the essential techniques that form the backbone of great art:  \n– Line: Discover how to manipulate every component and variation of a line to bring energy to your work.\n– Shape: Learn to develop shapes that don’t just form a sketch\, but tell a compelling visual story.\n– Value: Master the use of light and shadow to make value work effectively for your compositions.\n– Form: Gain the tools to create depth and realistic dimension with ease.\n– Scale: Learn to arrange elements to create impactful\, professional-grade layouts.\n– Perspective:\n– Color Theory: Explore how to apply foundational color principles to your graphite and mixed-media projects.\n– Composition:\n– Materials and Supplies: Learn how to use different materials and supplies to enhance your work. \nA Community for Every Creator\nThis series is designed for artists of all levels. We believe in a collaborative approach to learning\, where we challenge you to step outside your comfort zone while providing the reassuring guidance you need to succeed. \nPreparation & Materials\nTo ensure you have everything you need to succeed\, you can either purchase a pre-assembled kit or bring your own supplies. To purchase a kit or get a specific list\, please let us know during the registration process. Extra supplies will not be available during the class. \nRequired Drawing Supplies:\n– Graphite Pencils: at least an HB or 2B pencil.\n– Erasers: Both a kneaded eraser and a white or pink rubber eraser.\n– Paper Pad (9” x 12”): A dedicated drawing pad. \nRegistration Information\nWe offer several ways to join our classes\, with special pricing for our Supporting Members. \n\n\n\n\nRegular\nSupporting Member\n\n\nPre-Order (Per Class)\n$28\n$23\n\n\n4-Class Bundle\n$112\n$92\n\n\nDrop-in (Day of pricing)\n$40\n$32\n\n\n\n  \nPricing Details\n– Pre-Order: Secure your spot by pre-registering before the class date.\n– Series Pricing: Best value! Bundle any four (4) classes of your choice. \nTo maintain a high-quality experience for all participants\, classes require a minimum of 5 students. In the event a class is cancelled due to low attendance\, pre-paid students may choose between a full refund or a credit toward a future class. Please note that we cannot offer refunds for no-shows. \nJoin Us\nEach topic rotates every eight weeks\, offering you a structured yet flexible way to grow your craft.  \nWhen: Wednesdays\, starting May 6\, 2026 at 6:30 – 7:30pm. \nWhere: The Philosopher’s House classroom. \nEmail to Register: laura@fadeinit.org
URL:https://www.fadeinit.org/event/weekly-drawing-series/2026-05-13/
LOCATION:The Philosopher’s House\, 117 W Fairview Ave\, Johnson City\, TN\, 37604\, United States
CATEGORIES:Classes,In-Person
ATTACH;FMTTYPE=image/png:https://www.fadeinit.org/wp-content/uploads/2026/04/Intro-to-Art-Design.png
ORGANIZER;CN="FADE Initiative":MAILTO:hello@fadeinit.org
END:VEVENT
BEGIN:VEVENT
DTSTART;TZID=America/Halifax:20260520T183000
DTEND;TZID=America/Halifax:20260520T193000
DTSTAMP:20260419T141322
CREATED:20260418T205224Z
LAST-MODIFIED:20260418T205224Z
UID:10000820-1779301800-1779305400@www.fadeinit.org
SUMMARY:Weekly Drawing Series
DESCRIPTION:Elevate Your Artistry\nAre you ready to take your creative work to the next level? Whether you are a traditional oil painter or a street artist\, mastering the core elements of design is the key to unlocking your full potential. Join our live\, in-person drawing series to build confidence in your design decisions and rediscover the power of the pencil. \nEach class will rotate through different topics where we’ll guide you through the essential techniques that form the backbone of great art:  \n– Line: Discover how to manipulate every component and variation of a line to bring energy to your work.\n– Shape: Learn to develop shapes that don’t just form a sketch\, but tell a compelling visual story.\n– Value: Master the use of light and shadow to make value work effectively for your compositions.\n– Form: Gain the tools to create depth and realistic dimension with ease.\n– Scale: Learn to arrange elements to create impactful\, professional-grade layouts.\n– Perspective:\n– Color Theory: Explore how to apply foundational color principles to your graphite and mixed-media projects.\n– Composition:\n– Materials and Supplies: Learn how to use different materials and supplies to enhance your work. \nA Community for Every Creator\nThis series is designed for artists of all levels. We believe in a collaborative approach to learning\, where we challenge you to step outside your comfort zone while providing the reassuring guidance you need to succeed. \nPreparation & Materials\nTo ensure you have everything you need to succeed\, you can either purchase a pre-assembled kit or bring your own supplies. To purchase a kit or get a specific list\, please let us know during the registration process. Extra supplies will not be available during the class. \nRequired Drawing Supplies:\n– Graphite Pencils: at least an HB or 2B pencil.\n– Erasers: Both a kneaded eraser and a white or pink rubber eraser.\n– Paper Pad (9” x 12”): A dedicated drawing pad. \nRegistration Information\nWe offer several ways to join our classes\, with special pricing for our Supporting Members. \n\n\n\n\nRegular\nSupporting Member\n\n\nPre-Order (Per Class)\n$28\n$23\n\n\n4-Class Bundle\n$112\n$92\n\n\nDrop-in (Day of pricing)\n$40\n$32\n\n\n\n  \nPricing Details\n– Pre-Order: Secure your spot by pre-registering before the class date.\n– Series Pricing: Best value! Bundle any four (4) classes of your choice. \nTo maintain a high-quality experience for all participants\, classes require a minimum of 5 students. In the event a class is cancelled due to low attendance\, pre-paid students may choose between a full refund or a credit toward a future class. Please note that we cannot offer refunds for no-shows. \nJoin Us\nEach topic rotates every eight weeks\, offering you a structured yet flexible way to grow your craft.  \nWhen: Wednesdays\, starting May 6\, 2026 at 6:30 – 7:30pm. \nWhere: The Philosopher’s House classroom. \nEmail to Register: laura@fadeinit.org
URL:https://www.fadeinit.org/event/weekly-drawing-series/2026-05-20/
LOCATION:The Philosopher’s House\, 117 W Fairview Ave\, Johnson City\, TN\, 37604\, United States
CATEGORIES:Classes,In-Person
ATTACH;FMTTYPE=image/png:https://www.fadeinit.org/wp-content/uploads/2026/04/Intro-to-Art-Design.png
ORGANIZER;CN="FADE Initiative":MAILTO:hello@fadeinit.org
END:VEVENT
BEGIN:VEVENT
DTSTART;TZID=America/Halifax:20260527T183000
DTEND;TZID=America/Halifax:20260527T193000
DTSTAMP:20260419T141322
CREATED:20260418T205224Z
LAST-MODIFIED:20260418T205224Z
UID:10000821-1779906600-1779910200@www.fadeinit.org
SUMMARY:Weekly Drawing Series
DESCRIPTION:Elevate Your Artistry\nAre you ready to take your creative work to the next level? Whether you are a traditional oil painter or a street artist\, mastering the core elements of design is the key to unlocking your full potential. Join our live\, in-person drawing series to build confidence in your design decisions and rediscover the power of the pencil. \nEach class will rotate through different topics where we’ll guide you through the essential techniques that form the backbone of great art:  \n– Line: Discover how to manipulate every component and variation of a line to bring energy to your work.\n– Shape: Learn to develop shapes that don’t just form a sketch\, but tell a compelling visual story.\n– Value: Master the use of light and shadow to make value work effectively for your compositions.\n– Form: Gain the tools to create depth and realistic dimension with ease.\n– Scale: Learn to arrange elements to create impactful\, professional-grade layouts.\n– Perspective:\n– Color Theory: Explore how to apply foundational color principles to your graphite and mixed-media projects.\n– Composition:\n– Materials and Supplies: Learn how to use different materials and supplies to enhance your work. \nA Community for Every Creator\nThis series is designed for artists of all levels. We believe in a collaborative approach to learning\, where we challenge you to step outside your comfort zone while providing the reassuring guidance you need to succeed. \nPreparation & Materials\nTo ensure you have everything you need to succeed\, you can either purchase a pre-assembled kit or bring your own supplies. To purchase a kit or get a specific list\, please let us know during the registration process. Extra supplies will not be available during the class. \nRequired Drawing Supplies:\n– Graphite Pencils: at least an HB or 2B pencil.\n– Erasers: Both a kneaded eraser and a white or pink rubber eraser.\n– Paper Pad (9” x 12”): A dedicated drawing pad. \nRegistration Information\nWe offer several ways to join our classes\, with special pricing for our Supporting Members. \n\n\n\n\nRegular\nSupporting Member\n\n\nPre-Order (Per Class)\n$28\n$23\n\n\n4-Class Bundle\n$112\n$92\n\n\nDrop-in (Day of pricing)\n$40\n$32\n\n\n\n  \nPricing Details\n– Pre-Order: Secure your spot by pre-registering before the class date.\n– Series Pricing: Best value! Bundle any four (4) classes of your choice. \nTo maintain a high-quality experience for all participants\, classes require a minimum of 5 students. In the event a class is cancelled due to low attendance\, pre-paid students may choose between a full refund or a credit toward a future class. Please note that we cannot offer refunds for no-shows. \nJoin Us\nEach topic rotates every eight weeks\, offering you a structured yet flexible way to grow your craft.  \nWhen: Wednesdays\, starting May 6\, 2026 at 6:30 – 7:30pm. \nWhere: The Philosopher’s House classroom. \nEmail to Register: laura@fadeinit.org
URL:https://www.fadeinit.org/event/weekly-drawing-series/2026-05-27/
LOCATION:The Philosopher’s House\, 117 W Fairview Ave\, Johnson City\, TN\, 37604\, United States
CATEGORIES:Classes,In-Person
ATTACH;FMTTYPE=image/png:https://www.fadeinit.org/wp-content/uploads/2026/04/Intro-to-Art-Design.png
ORGANIZER;CN="FADE Initiative":MAILTO:hello@fadeinit.org
END:VEVENT
BEGIN:VEVENT
DTSTART;TZID=America/Halifax:20260603T183000
DTEND;TZID=America/Halifax:20260603T193000
DTSTAMP:20260419T141322
CREATED:20260418T205224Z
LAST-MODIFIED:20260418T205224Z
UID:10000822-1780511400-1780515000@www.fadeinit.org
SUMMARY:Weekly Drawing Series
DESCRIPTION:Elevate Your Artistry\nAre you ready to take your creative work to the next level? Whether you are a traditional oil painter or a street artist\, mastering the core elements of design is the key to unlocking your full potential. Join our live\, in-person drawing series to build confidence in your design decisions and rediscover the power of the pencil. \nEach class will rotate through different topics where we’ll guide you through the essential techniques that form the backbone of great art:  \n– Line: Discover how to manipulate every component and variation of a line to bring energy to your work.\n– Shape: Learn to develop shapes that don’t just form a sketch\, but tell a compelling visual story.\n– Value: Master the use of light and shadow to make value work effectively for your compositions.\n– Form: Gain the tools to create depth and realistic dimension with ease.\n– Scale: Learn to arrange elements to create impactful\, professional-grade layouts.\n– Perspective:\n– Color Theory: Explore how to apply foundational color principles to your graphite and mixed-media projects.\n– Composition:\n– Materials and Supplies: Learn how to use different materials and supplies to enhance your work. \nA Community for Every Creator\nThis series is designed for artists of all levels. We believe in a collaborative approach to learning\, where we challenge you to step outside your comfort zone while providing the reassuring guidance you need to succeed. \nPreparation & Materials\nTo ensure you have everything you need to succeed\, you can either purchase a pre-assembled kit or bring your own supplies. To purchase a kit or get a specific list\, please let us know during the registration process. Extra supplies will not be available during the class. \nRequired Drawing Supplies:\n– Graphite Pencils: at least an HB or 2B pencil.\n– Erasers: Both a kneaded eraser and a white or pink rubber eraser.\n– Paper Pad (9” x 12”): A dedicated drawing pad. \nRegistration Information\nWe offer several ways to join our classes\, with special pricing for our Supporting Members. \n\n\n\n\nRegular\nSupporting Member\n\n\nPre-Order (Per Class)\n$28\n$23\n\n\n4-Class Bundle\n$112\n$92\n\n\nDrop-in (Day of pricing)\n$40\n$32\n\n\n\n  \nPricing Details\n– Pre-Order: Secure your spot by pre-registering before the class date.\n– Series Pricing: Best value! Bundle any four (4) classes of your choice. \nTo maintain a high-quality experience for all participants\, classes require a minimum of 5 students. In the event a class is cancelled due to low attendance\, pre-paid students may choose between a full refund or a credit toward a future class. Please note that we cannot offer refunds for no-shows. \nJoin Us\nEach topic rotates every eight weeks\, offering you a structured yet flexible way to grow your craft.  \nWhen: Wednesdays\, starting May 6\, 2026 at 6:30 – 7:30pm. \nWhere: The Philosopher’s House classroom. \nEmail to Register: laura@fadeinit.org
URL:https://www.fadeinit.org/event/weekly-drawing-series/2026-06-03/
LOCATION:The Philosopher’s House\, 117 W Fairview Ave\, Johnson City\, TN\, 37604\, United States
CATEGORIES:Classes,In-Person
ATTACH;FMTTYPE=image/png:https://www.fadeinit.org/wp-content/uploads/2026/04/Intro-to-Art-Design.png
ORGANIZER;CN="FADE Initiative":MAILTO:hello@fadeinit.org
END:VEVENT
BEGIN:VEVENT
DTSTART;TZID=America/Halifax:20260610T183000
DTEND;TZID=America/Halifax:20260610T193000
DTSTAMP:20260419T141322
CREATED:20260418T205224Z
LAST-MODIFIED:20260418T205224Z
UID:10000823-1781116200-1781119800@www.fadeinit.org
SUMMARY:Weekly Drawing Series
DESCRIPTION:Elevate Your Artistry\nAre you ready to take your creative work to the next level? Whether you are a traditional oil painter or a street artist\, mastering the core elements of design is the key to unlocking your full potential. Join our live\, in-person drawing series to build confidence in your design decisions and rediscover the power of the pencil. \nEach class will rotate through different topics where we’ll guide you through the essential techniques that form the backbone of great art:  \n– Line: Discover how to manipulate every component and variation of a line to bring energy to your work.\n– Shape: Learn to develop shapes that don’t just form a sketch\, but tell a compelling visual story.\n– Value: Master the use of light and shadow to make value work effectively for your compositions.\n– Form: Gain the tools to create depth and realistic dimension with ease.\n– Scale: Learn to arrange elements to create impactful\, professional-grade layouts.\n– Perspective:\n– Color Theory: Explore how to apply foundational color principles to your graphite and mixed-media projects.\n– Composition:\n– Materials and Supplies: Learn how to use different materials and supplies to enhance your work. \nA Community for Every Creator\nThis series is designed for artists of all levels. We believe in a collaborative approach to learning\, where we challenge you to step outside your comfort zone while providing the reassuring guidance you need to succeed. \nPreparation & Materials\nTo ensure you have everything you need to succeed\, you can either purchase a pre-assembled kit or bring your own supplies. To purchase a kit or get a specific list\, please let us know during the registration process. Extra supplies will not be available during the class. \nRequired Drawing Supplies:\n– Graphite Pencils: at least an HB or 2B pencil.\n– Erasers: Both a kneaded eraser and a white or pink rubber eraser.\n– Paper Pad (9” x 12”): A dedicated drawing pad. \nRegistration Information\nWe offer several ways to join our classes\, with special pricing for our Supporting Members. \n\n\n\n\nRegular\nSupporting Member\n\n\nPre-Order (Per Class)\n$28\n$23\n\n\n4-Class Bundle\n$112\n$92\n\n\nDrop-in (Day of pricing)\n$40\n$32\n\n\n\n  \nPricing Details\n– Pre-Order: Secure your spot by pre-registering before the class date.\n– Series Pricing: Best value! Bundle any four (4) classes of your choice. \nTo maintain a high-quality experience for all participants\, classes require a minimum of 5 students. In the event a class is cancelled due to low attendance\, pre-paid students may choose between a full refund or a credit toward a future class. Please note that we cannot offer refunds for no-shows. \nJoin Us\nEach topic rotates every eight weeks\, offering you a structured yet flexible way to grow your craft.  \nWhen: Wednesdays\, starting May 6\, 2026 at 6:30 – 7:30pm. \nWhere: The Philosopher’s House classroom. \nEmail to Register: laura@fadeinit.org
URL:https://www.fadeinit.org/event/weekly-drawing-series/2026-06-10/
LOCATION:The Philosopher’s House\, 117 W Fairview Ave\, Johnson City\, TN\, 37604\, United States
CATEGORIES:Classes,In-Person
ATTACH;FMTTYPE=image/png:https://www.fadeinit.org/wp-content/uploads/2026/04/Intro-to-Art-Design.png
ORGANIZER;CN="FADE Initiative":MAILTO:hello@fadeinit.org
END:VEVENT
BEGIN:VEVENT
DTSTART;TZID=America/Halifax:20260617T183000
DTEND;TZID=America/Halifax:20260617T193000
DTSTAMP:20260419T141322
CREATED:20260418T205224Z
LAST-MODIFIED:20260418T205224Z
UID:10000824-1781721000-1781724600@www.fadeinit.org
SUMMARY:Weekly Drawing Series
DESCRIPTION:Elevate Your Artistry\nAre you ready to take your creative work to the next level? Whether you are a traditional oil painter or a street artist\, mastering the core elements of design is the key to unlocking your full potential. Join our live\, in-person drawing series to build confidence in your design decisions and rediscover the power of the pencil. \nEach class will rotate through different topics where we’ll guide you through the essential techniques that form the backbone of great art:  \n– Line: Discover how to manipulate every component and variation of a line to bring energy to your work.\n– Shape: Learn to develop shapes that don’t just form a sketch\, but tell a compelling visual story.\n– Value: Master the use of light and shadow to make value work effectively for your compositions.\n– Form: Gain the tools to create depth and realistic dimension with ease.\n– Scale: Learn to arrange elements to create impactful\, professional-grade layouts.\n– Perspective:\n– Color Theory: Explore how to apply foundational color principles to your graphite and mixed-media projects.\n– Composition:\n– Materials and Supplies: Learn how to use different materials and supplies to enhance your work. \nA Community for Every Creator\nThis series is designed for artists of all levels. We believe in a collaborative approach to learning\, where we challenge you to step outside your comfort zone while providing the reassuring guidance you need to succeed. \nPreparation & Materials\nTo ensure you have everything you need to succeed\, you can either purchase a pre-assembled kit or bring your own supplies. To purchase a kit or get a specific list\, please let us know during the registration process. Extra supplies will not be available during the class. \nRequired Drawing Supplies:\n– Graphite Pencils: at least an HB or 2B pencil.\n– Erasers: Both a kneaded eraser and a white or pink rubber eraser.\n– Paper Pad (9” x 12”): A dedicated drawing pad. \nRegistration Information\nWe offer several ways to join our classes\, with special pricing for our Supporting Members. \n\n\n\n\nRegular\nSupporting Member\n\n\nPre-Order (Per Class)\n$28\n$23\n\n\n4-Class Bundle\n$112\n$92\n\n\nDrop-in (Day of pricing)\n$40\n$32\n\n\n\n  \nPricing Details\n– Pre-Order: Secure your spot by pre-registering before the class date.\n– Series Pricing: Best value! Bundle any four (4) classes of your choice. \nTo maintain a high-quality experience for all participants\, classes require a minimum of 5 students. In the event a class is cancelled due to low attendance\, pre-paid students may choose between a full refund or a credit toward a future class. Please note that we cannot offer refunds for no-shows. \nJoin Us\nEach topic rotates every eight weeks\, offering you a structured yet flexible way to grow your craft.  \nWhen: Wednesdays\, starting May 6\, 2026 at 6:30 – 7:30pm. \nWhere: The Philosopher’s House classroom. \nEmail to Register: laura@fadeinit.org
URL:https://www.fadeinit.org/event/weekly-drawing-series/2026-06-17/
LOCATION:The Philosopher’s House\, 117 W Fairview Ave\, Johnson City\, TN\, 37604\, United States
CATEGORIES:Classes,In-Person
ATTACH;FMTTYPE=image/png:https://www.fadeinit.org/wp-content/uploads/2026/04/Intro-to-Art-Design.png
ORGANIZER;CN="FADE Initiative":MAILTO:hello@fadeinit.org
END:VEVENT
BEGIN:VEVENT
DTSTART;TZID=America/Halifax:20260624T183000
DTEND;TZID=America/Halifax:20260624T193000
DTSTAMP:20260419T141322
CREATED:20260418T205224Z
LAST-MODIFIED:20260418T205224Z
UID:10000825-1782325800-1782329400@www.fadeinit.org
SUMMARY:Weekly Drawing Series
DESCRIPTION:Elevate Your Artistry\nAre you ready to take your creative work to the next level? Whether you are a traditional oil painter or a street artist\, mastering the core elements of design is the key to unlocking your full potential. Join our live\, in-person drawing series to build confidence in your design decisions and rediscover the power of the pencil. \nEach class will rotate through different topics where we’ll guide you through the essential techniques that form the backbone of great art:  \n– Line: Discover how to manipulate every component and variation of a line to bring energy to your work.\n– Shape: Learn to develop shapes that don’t just form a sketch\, but tell a compelling visual story.\n– Value: Master the use of light and shadow to make value work effectively for your compositions.\n– Form: Gain the tools to create depth and realistic dimension with ease.\n– Scale: Learn to arrange elements to create impactful\, professional-grade layouts.\n– Perspective:\n– Color Theory: Explore how to apply foundational color principles to your graphite and mixed-media projects.\n– Composition:\n– Materials and Supplies: Learn how to use different materials and supplies to enhance your work. \nA Community for Every Creator\nThis series is designed for artists of all levels. We believe in a collaborative approach to learning\, where we challenge you to step outside your comfort zone while providing the reassuring guidance you need to succeed. \nPreparation & Materials\nTo ensure you have everything you need to succeed\, you can either purchase a pre-assembled kit or bring your own supplies. To purchase a kit or get a specific list\, please let us know during the registration process. Extra supplies will not be available during the class. \nRequired Drawing Supplies:\n– Graphite Pencils: at least an HB or 2B pencil.\n– Erasers: Both a kneaded eraser and a white or pink rubber eraser.\n– Paper Pad (9” x 12”): A dedicated drawing pad. \nRegistration Information\nWe offer several ways to join our classes\, with special pricing for our Supporting Members. \n\n\n\n\nRegular\nSupporting Member\n\n\nPre-Order (Per Class)\n$28\n$23\n\n\n4-Class Bundle\n$112\n$92\n\n\nDrop-in (Day of pricing)\n$40\n$32\n\n\n\n  \nPricing Details\n– Pre-Order: Secure your spot by pre-registering before the class date.\n– Series Pricing: Best value! Bundle any four (4) classes of your choice. \nTo maintain a high-quality experience for all participants\, classes require a minimum of 5 students. In the event a class is cancelled due to low attendance\, pre-paid students may choose between a full refund or a credit toward a future class. Please note that we cannot offer refunds for no-shows. \nJoin Us\nEach topic rotates every eight weeks\, offering you a structured yet flexible way to grow your craft.  \nWhen: Wednesdays\, starting May 6\, 2026 at 6:30 – 7:30pm. \nWhere: The Philosopher’s House classroom. \nEmail to Register: laura@fadeinit.org
URL:https://www.fadeinit.org/event/weekly-drawing-series/2026-06-24/
LOCATION:The Philosopher’s House\, 117 W Fairview Ave\, Johnson City\, TN\, 37604\, United States
CATEGORIES:Classes,In-Person
ATTACH;FMTTYPE=image/png:https://www.fadeinit.org/wp-content/uploads/2026/04/Intro-to-Art-Design.png
ORGANIZER;CN="FADE Initiative":MAILTO:hello@fadeinit.org
END:VEVENT
END:VCALENDAR